BEGIN:VCALENDAR
VERSION:2.0
PRODID:icalendar-ruby
CALSCALE:GREGORIAN
METHOD:PUBLISH
BEGIN:VEVENT
DTSTAMP:20260421T061010Z
UID:10-489282@sojourn-church.org
DTSTART:20261014T230000Z
DTEND:20261015T000000Z
CLASS:PUBLIC
CREATED:20260420T200754
DESCRIPTION:Join Joel and Dawn Baker in their small group. It currently mee
 ts in the small group room in the church (behind the sanctuary). They are 
 working their way through Secret Church 1\, Survey of the Old Testament. 
LAST-MODIFIED:20260420T200754
LOCATION:Sojourn Church
SUMMARY:Life Group
URL;VALUE=URI:https://sojourn-church.org/events/life-group--10/2026-10-14
ATTACH;FILENAME=Life-Group-Room.jpg;FMTTYPE=image/jpeg:https://dq5pwpg1q8ru
 0.cloudfront.net/2025/02/05/19/29/16/f48f571c-e2ac-4a67-bd15-f038b3cc083c/
 Life-Group-Room.jpg
ATTACH;FILENAME=secret-church-1-survey-of-OT.jpeg;FMTTYPE=image/jpeg:https:
 //dq5pwpg1q8ru0.cloudfront.net/2025/04/30/14/06/26/aae5ca1b-c9d9-45d2-b715
 -f1e9f411ed6e/secret-church-1-survey-of-OT.jpeg
END:VEVENT
END:VCALENDAR
